BEGIN:VCALENDAR
VERSION:2.0
PRODID:-//CX3 -  Community × Coldwater × Conservation - ECPv6.0.13.1//NONSGML v1.0//EN
CALSCALE:GREGORIAN
METHOD:PUBLISH
X-WR-CALNAME:CX3 -  Community × Coldwater × Conservation
X-ORIGINAL-URL:https://cx3.tu.org
X-WR-CALDESC:Events for CX3 -  Community × Coldwater × Conservation
REFRESH-INTERVAL;VALUE=DURATION:PT1H
X-Robots-Tag:noindex
X-PUBLISHED-TTL:PT1H
BEGIN:VTIMEZONE
TZID:America/Los_Angeles
BEGIN:DAYLIGHT
TZOFFSETFROM:-0800
TZOFFSETTO:-0700
TZNAME:PDT
DTSTART:20230312T100000
END:DAYLIGHT
BEGIN:STANDARD
TZOFFSETFROM:-0700
TZOFFSETTO:-0800
TZNAME:PST
DTSTART:20231105T090000
END:STANDARD
END:VTIMEZONE
BEGIN:VEVENT
DTSTART;TZID=America/Los_Angeles:20231001T100000
DTEND;TZID=America/Los_Angeles:20231001T113000
DTSTAMP:20260421T044332
CREATED:20230915T182413Z
LAST-MODIFIED:20230915T182413Z
UID:10000073-1696154400-1696159800@cx3.tu.org
SUMMARY:Stream Clean-Up with the Spokane Riverkeeper
DESCRIPTION:Help cleanup up the Spokane River! On Sunday morning we will be gathering for cleanup with our partners at the Spokane Riverkeeper. We will provide gloves\, pickers\, bags and disposal. Just show up with good walking shoes\, ready to clean up the river. Prizes and free swag for all volunteers provided by our generous event sponsors Patagonia and OnX Maps. \nMeet at on the river side of the Centennial Hotel at King Cole Way. \nThis event is free and open to the public. \n  \n 
URL:https://cx3.tu.org/event/stream-clean-up-with-the-spokane-riverkeeper-2/
LOCATION:Centennial Hotel\, 303 W North River Dr\, Spokane\, WA\, 99201\, United States
CATEGORIES:Additional Activities,DIY Adventures,Family,Social,Volunteer
ORGANIZER;CN="Beverly%20Smith":MAILTO:beverly.smith@tu.org
END:VEVENT
BEGIN:VEVENT
DTSTART;TZID=America/Los_Angeles:20230930T150000
DTEND;TZID=America/Los_Angeles:20230930T170000
DTSTAMP:20260421T044332
CREATED:20230503T145151Z
LAST-MODIFIED:20230503T145152Z
UID:10000053-1696086000-1696093200@cx3.tu.org
SUMMARY:Naturalist tour of the Spokane River
DESCRIPTION:Local naturalist extraordinaire\, Jack Nisbet\, will lead a hike/walk from People’s Park for two to three miles round-trip. The hike is along gravel trails but there is some uneven footing. Transportation to People’s Park will be available from the Centennial. \nSpokane-based writer Jack Nisbet is the author of several collections of essays that explore the human and natural history of the Columbia Plateau. He has also written award-winning biographies of fur agent David Thompson (Sources of the River) and naturalist David Douglas (The Collector). These two early visitors to the region provided original information about the variety and tribal management of fish populations in the Columbia and Snake River drainages. For more information visit www.jacknisbet.com \n 
URL:https://cx3.tu.org/event/naturalist-tour-of-the-spokane-river-2/
LOCATION:Centennial Hotel\, 303 W North River Dr\, Spokane\, WA\, 99201\, United States
CATEGORIES:Additional Activities,Conservation Tours,Family,Learning
ORGANIZER;CN="Beverly%20Smith":MAILTO:beverly.smith@tu.org
END:VEVENT
BEGIN:VEVENT
DTSTART;TZID=America/Los_Angeles:20230930T131500
DTEND;TZID=America/Los_Angeles:20230930T151500
DTSTAMP:20260421T044332
CREATED:20230412T160247Z
LAST-MODIFIED:20230915T182719Z
UID:10000088-1696079700-1696086900@cx3.tu.org
SUMMARY:Women's Fly Casting Practice
DESCRIPTION:Join us for an exciting afternoon of fly casting at the Trout Unlimited Women’s Fly Casting Practice event on the grassy area right under Spokane’s iconic clocktower in Riverfront Park. \nDiscover the joy of fly casting with the folks of Spokane Women on the Fly at Riverfront Park during the WSECU Fall Fest! Everyone\, regardless of experience\, is welcome. Join us and learn the basics of casting a fly rod or test your skills with a few fun casting challenges. Interested in getting involved or connecting with fellow fly fishing enthusiasts? Pop by and chat about what Spokane Women on the Fly and the local Spokane Falls Trout Unlimited Chapter is up to. \nThis event is all about empowering women in the world of fly fishing while extending a warm welcome to enthusiasts of all gender identities. Discover the beauty of fly casting in a supportive and diverse environment. Our instructors from TU’s Spokane Women on the Fly are all skilled female anglers. Our instructors will guide participants through the techniques and nuances of this elegant sport and teach walk-up beginners basic fly casts needed in most fishing situations. \nIf you have a rod and want to bring it\, great\, but we will have plenty to borrow. We will be casting on grass and with no hooks\, so no fishing license is required. You need only bring your enthusiasm for learning to cast and forging connections with fellow conservation minded anglers. \nDate: Sat.\, Sept. 30\nTime: 1:15 p.m. to 3:15 p.m.\nLocation: The grassy area under the clocktower in Riverfront Park \nThis event is free and open to the public! \n \nSpokane Women on the Fly has\, for almost 10 years\, been a vibrant and inclusive community and resource for outdoor and fly fishing enthusiasts. Affiliated with the Spokane Falls Chapter of Trout Unlimited\, the group is dedicated to merging the art of angling with cold water conservation values. This community extends beyond just fishing\, hosting inclusive and educational events such as fly tying\, casting sessions\, and social meetups. With open arms\, we welcome individuals of all skill levels and backgrounds to be a part of our tapestry\, where friendship and shared passions flourish on and off the water.
URL:https://cx3.tu.org/event/womens-casting-and-fishing-clinics/
LOCATION:Centennial Hotel\, 303 W North River Dr\, Spokane\, WA\, 99201\, United States
CATEGORIES:Additional Activities,DIY Adventures,Family,Fishing,Learning,Social,Women's Casting and Fishing Clinics
END:VEVENT
BEGIN:VEVENT
DTSTART;TZID=America/Los_Angeles:20230929T070000
DTEND;TZID=America/Los_Angeles:20230929T080000
DTSTAMP:20260421T044332
CREATED:20230322T184251Z
LAST-MODIFIED:20230915T182339Z
UID:10000057-1695970800-1695974400@cx3.tu.org
SUMMARY:5K: Run (or Walk) The Riverfront Park Loop
DESCRIPTION:The Riverfront Loop takes you on a scenic tour of Spokane’s central attraction and is easily accessed from downtown hotels. The loop extends for 2.7 miles around the park\, crossing the Centennial Trail onto the grounds of Gonzaga University\, then heading back west on the north bank of the river to reach the park’s pedestrian bridges. For added distance\, continue on the Centennial Trail or loop in the paths around Gonzaga. \nInterested runners or walkers are encouraged to meet in the pre-function area at 7 a.m. to run or walk together. We will ensure that folks are back and at breakfast in time to listen to our welcome blessing from the Spokane Tribal representative\, Danny Kieffer at 8:15 a.m. \nThe run/ walk is free and open to the public.
URL:https://cx3.tu.org/event/5k-run-or-walk-the-riverfront-park-loop/
LOCATION:Centennial Hotel\, 303 W North River Dr\, Spokane\, WA\, 99201\, United States
CATEGORIES:Additional Activities,DIY Adventures,Family,Social
ORGANIZER;CN="Beverly%20Smith":MAILTO:beverly.smith@tu.org
END:VEVENT
BEGIN:VEVENT
DTSTART;TZID=America/Los_Angeles:20230928T183000
DTEND;TZID=America/Los_Angeles:20230928T200000
DTSTAMP:20260421T044332
CREATED:20230306T171809Z
LAST-MODIFIED:20230915T182244Z
UID:10000054-1695925800-1695931200@cx3.tu.org
SUMMARY:DIY Brewery Tour
DESCRIPTION:It’s no secret that the craft beer scene is hopping in Spokane\, with some of the best beer in the Inland Northwest! Many Spokane breweries source local ingredients to create their concoctions and share their love of craft beer with both locals and visitors alike. The famous Spokane Ale Trail is a great way to discover all the unique breweries found in the city.  Many of the breweries are located west of downtown and most don’t require reservations. Leave from the pre-function area together to walk or take an uber and start anywhere along this handy Spokane Brewery Tour list and map!   \nThis event is free and open to the public.
URL:https://cx3.tu.org/event/diy-brewery-tour/
LOCATION:Centennial Hotel\, 303 W North River Dr\, Spokane\, WA\, 99201\, United States
CATEGORIES:Additional Activities,DIY Adventures,Social
ATTACH;FMTTYPE=image/jpeg:https://cx3.tu.org/wp-content/uploads/2023/03/brewery_tour.jpg
END:VEVENT
BEGIN:VEVENT
DTSTART;TZID=America/Los_Angeles:20230928T080000
DTEND;TZID=America/Los_Angeles:20230928T170000
DTSTAMP:20260421T044332
CREATED:20230928T190000Z
LAST-MODIFIED:20230306T171245Z
UID:10000033-1695888000-1695920400@cx3.tu.org
SUMMARY:St. Joe River (Wade Fishing)
DESCRIPTION:Roughly an hour and a half drive from Spokane\, the St. Joe is a near-perfect Cutthroat stream. The “Joe” cascades through the Idaho Panhandle for over 80 miles offering anglers plenty of fishable water. Generally fish that range 12-16″ on average and plenty of cutthroat that will go bigger. By September the river has dropped significantly\, and the lies that trout feed in will become quite obvious. In the fall if weather conditions allow\, the Joe produces great hatches of western freestone fall favorites such as Mahogonies\, October Caddis\, and Baetis. If the weather stays mild\, the hopper-dropper/attractor fishing will remain spectacular. The St. Joe is in Idaho and requires an Idaho state Fishing License.
URL:https://cx3.tu.org/event/st-joe-river-wade-fishing-2/
CATEGORIES:Additional Activities,Fishing,Hosted Fishing Trips
END:VEVENT
BEGIN:VEVENT
DTSTART;TZID=America/Los_Angeles:20230928T080000
DTEND;TZID=America/Los_Angeles:20230928T170000
DTSTAMP:20260421T044332
CREATED:20230305T200000Z
LAST-MODIFIED:20230306T171347Z
UID:10000034-1695888000-1695920400@cx3.tu.org
SUMMARY:Spokane River (Float Fishing)
DESCRIPTION:A true ‘urban fishery gem’\, the Spokane runs right through the heart of the city. Many anglers from the area travel great distances to the mountains of Idaho to fish and overlook this amazing river! While the primary quarry is the river’s beautiful Redband Rainbow Trout\, Brown and Cutthroat Trout are present as well. The average size fish is around 14”-18”\, fish over 18” are not uncommon\, and there’s always a possibility of a true trophy. The Spokane is mostly a floated river (wade access is limited)\, so you will likely be fishing out of a raft or drift boat. The primary hatch on this river is the caddis hatch\, but its bug life is diverse and varied. When conditions hold steady\, the fall fishing on the Spokane can be extremely good. The Spokane is in Washington and requires a WA state Fishing License.
URL:https://cx3.tu.org/event/spokane-river-float-fishing-2/
CATEGORIES:Additional Activities,Fishing,Hosted Fishing Trips
END:VEVENT
BEGIN:VEVENT
DTSTART;TZID=America/Los_Angeles:20230927T080000
DTEND;TZID=America/Los_Angeles:20230927T170000
DTSTAMP:20260421T044332
CREATED:20230927T190000Z
LAST-MODIFIED:20230131T194014Z
UID:10000037-1695801600-1695834000@cx3.tu.org
SUMMARY:St. Joe River (Wade Fishing)
DESCRIPTION:Roughly an hour and a half drive from Spokane\, the St. Joe is a near-perfect Cutthroat stream. The “Joe” cascades through the Idaho Panhandle for over 80 miles offering anglers plenty of fishable water. Generally fish that range 12-16″ on average and plenty of cutthroat that will go bigger. By September the river has dropped significantly\, and the lies that trout feed in will become quite obvious. In the fall if weather conditions allow\, the Joe produces great hatches of western freestone fall favorites such as Mahogonies\, October Caddis\, and Baetis. If the weather stays mild\, the hopper-dropper/attractor fishing will remain spectacular. The St. Joe is in Idaho and requires an Idaho state Fishing License.
URL:https://cx3.tu.org/event/st-joe-river-wade-fishing/
CATEGORIES:Additional Activities
END:VEVENT
BEGIN:VEVENT
DTSTART;TZID=America/Los_Angeles:20230927T080000
DTEND;TZID=America/Los_Angeles:20230927T170000
DTSTAMP:20260421T044332
CREATED:20230927T190000Z
LAST-MODIFIED:20230131T194024Z
UID:10000038-1695801600-1695834000@cx3.tu.org
SUMMARY:Spokane River (Float Fishing)
DESCRIPTION:A true ‘urban fishery gem’\, the Spokane runs right through the heart of the city. Many anglers from the area travel great distances to the mountains of Idaho to fish and overlook this amazing river! While the primary quarry is the river’s beautiful Redband Rainbow Trout\, Brown and Cutthroat Trout are present as well. The average size fish is around 14”-18”\, fish over 18” are not uncommon\, and there’s always a possibility of a true trophy. The Spokane is mostly a floated river (wade access is limited)\, so you will likely be fishing out of a raft or drift boat. The primary hatch on this river is the caddis hatch\, but its bug life is diverse and varied. When conditions hold steady\, the fall fishing on the Spokane can be extremely good. The Spokane is in Washington and requires a WA state Fishing License.
URL:https://cx3.tu.org/event/spokane-river-float-fishing/
CATEGORIES:Additional Activities
END:VEVENT
END:VCALENDAR