BEGIN:VCALENDAR
VERSION:2.0
PRODID:-//CX3 -  Community × Coldwater × Conservation - ECPv6.0.13.1//NONSGML v1.0//EN
CALSCALE:GREGORIAN
METHOD:PUBLISH
X-ORIGINAL-URL:https://cx3.tu.org
X-WR-CALDESC:Events for CX3 -  Community × Coldwater × Conservation
REFRESH-INTERVAL;VALUE=DURATION:PT1H
X-Robots-Tag:noindex
X-PUBLISHED-TTL:PT1H
BEGIN:VTIMEZONE
TZID:America/Los_Angeles
BEGIN:DAYLIGHT
TZOFFSETFROM:-0800
TZOFFSETTO:-0700
TZNAME:PDT
DTSTART:20230312T100000
END:DAYLIGHT
BEGIN:STANDARD
TZOFFSETFROM:-0700
TZOFFSETTO:-0800
TZNAME:PST
DTSTART:20231105T090000
END:STANDARD
END:VTIMEZONE
BEGIN:VEVENT
DTSTART;TZID=America/Los_Angeles:20231001T100000
DTEND;TZID=America/Los_Angeles:20231001T113000
DTSTAMP:20260421T061309
CREATED:20230915T182413Z
LAST-MODIFIED:20230915T182413Z
UID:10000073-1696154400-1696159800@cx3.tu.org
SUMMARY:Stream Clean-Up with the Spokane Riverkeeper
DESCRIPTION:Help cleanup up the Spokane River! On Sunday morning we will be gathering for cleanup with our partners at the Spokane Riverkeeper. We will provide gloves\, pickers\, bags and disposal. Just show up with good walking shoes\, ready to clean up the river. Prizes and free swag for all volunteers provided by our generous event sponsors Patagonia and OnX Maps. \nMeet at on the river side of the Centennial Hotel at King Cole Way. \nThis event is free and open to the public. \n  \n 
URL:https://cx3.tu.org/event/stream-clean-up-with-the-spokane-riverkeeper-2/
LOCATION:Centennial Hotel\, 303 W North River Dr\, Spokane\, WA\, 99201\, United States
CATEGORIES:Additional Activities,DIY Adventures,Family,Social,Volunteer
ORGANIZER;CN="Beverly%20Smith":MAILTO:beverly.smith@tu.org
END:VEVENT
BEGIN:VEVENT
DTSTART;TZID=America/Los_Angeles:20230930T170000
DTEND;TZID=America/Los_Angeles:20230930T200000
DTSTAMP:20260421T061309
CREATED:20231001T040000Z
LAST-MODIFIED:20230817T173354Z
UID:10000052-1696093200-1696104000@cx3.tu.org
SUMMARY:From the Snake to the Sea: An Evening Celebrating Our Shared Work and Supporting Washington TU Featuring Keynote Speaker Nez Perce Chairman Shannon Wheeler
DESCRIPTION:Connect with hundreds of dedicated conservationists and partners at the Washington TU banquet and fundraiser. We’ll start the night off with a cocktail reception\, appetizers\, networking and prize perusal\, followed by dinner featuring our keynote speaker\, Nez Perce Chairman Shannon Wheeler. \nWheeler\, an affable and extremely capable leader\, is the seventh of 11 children raised to hard-working parents in Lapwai\, Idaho. After a successful entrepreneurial and business career spanning everything from owning multiple convenience stores in the region\, to graphic design and screen printing\, at 56\, Wheeler has risen as the voice for salmon and for his people. \nWheeler’s perspective is an angler’s perspective. He grew up on the rivers and streams\, fishing with his family. The Selway\, the South Fork Salmon River\, Big Creek\, the Seesch\, Rapid River. \nToday he is one of the leading advocates for the opportunity that Representative Mike Simpson’s “Northwest in Transition” proposal presents for his tribe\, as well as the other tribes of the Columbia Basin. But he also believes that great opportunity lies ahead for the agricultural community\, transporters and river communities in the Snake River Basin. But the fish need to come back and they can only come back if the dams come down. All four of the Lower Snake Dams. \nLater in the evening the volunteer Embrace A Stream Committee will share the results of their annual grant awards meeting that day and celebrate the dozens of local chapter conservation projects receiving funding. \nA hybrid in-person and online auction and sweepstakes will help raise funds for important TU work done by volunteers from the Washington Council\, local Washington TU chapters and the Northwest Youth Conservation Fly Fishing Academy. \nThis event requires “all inclusive” registration\, Saturday registration or separate meal purchase.
URL:https://cx3.tu.org/event/embrace-a-stream-banquet-conservation-fundraiser/
LOCATION:Centennial Hotel\, 303 W North River Dr\, Spokane\, WA\, 99201\, United States
CATEGORIES:Conservation Conversations,Family,Learning,Social
ATTACH;FMTTYPE=image/jpeg:https://cx3.tu.org/wp-content/uploads/2023/09/shannon-wheeler.jpg
ORGANIZER;CN="Beverly%20Smith":MAILTO:beverly.smith@tu.org
END:VEVENT
BEGIN:VEVENT
DTSTART;TZID=America/Los_Angeles:20230930T153000
DTEND;TZID=America/Los_Angeles:20230930T164500
DTSTAMP:20260421T061309
CREATED:20230412T161207Z
LAST-MODIFIED:20230915T182500Z
UID:10000059-1696087800-1696092300@cx3.tu.org
SUMMARY:Becoming a Conservation and Community Leader with Hilary Hutcheson and Heather Hodson
DESCRIPTION:  \n \n  \nIn the world of conservation and community\, Hilary Hutchinson and Heather Hodson stand as exemplary leaders who have translated their deep-seated passion into purposeful action. Their inspiring journey is a testament to the power of aligning one’s personal mission with a broader cause. They have not only become leaders but have also embraced the role of mentors\, turning fellow enthusiasts into empowered advocates. Through their work\, they encourage us all to use our voices\, channel our passions\, and embark on a mission to purpose. They remind us that leadership is not merely about being at the helm; it’s about nurturing the path for others and fostering a legacy of positive change in conservation and community endeavors. \nJoin Hilary and Heather on Sat.\, Sept. 30 at 3:30 p.m. to discover their inspiring journey and gain insights on how you can transform your passion into purpose while empowering and supporting new leadership. \nThis event is free and open to the public.
URL:https://cx3.tu.org/event/becoming-a-conservation-and-community-leader-with-hilary-hutchinson-and-heather-hodson-neufeld/
LOCATION:Centennial Hotel\, 303 W North River Dr\, Spokane\, WA\, 99201\, United States
CATEGORIES:Conservation Conversations,Family,Learning,Social,Women's Casting and Fishing Clinics
ORGANIZER;CN="Beverly%20Smith":MAILTO:beverly.smith@tu.org
END:VEVENT
BEGIN:VEVENT
DTSTART;TZID=America/Los_Angeles:20230930T150000
DTEND;TZID=America/Los_Angeles:20230930T170000
DTSTAMP:20260421T061309
CREATED:20230503T145151Z
LAST-MODIFIED:20230503T145152Z
UID:10000053-1696086000-1696093200@cx3.tu.org
SUMMARY:Naturalist tour of the Spokane River
DESCRIPTION:Local naturalist extraordinaire\, Jack Nisbet\, will lead a hike/walk from People’s Park for two to three miles round-trip. The hike is along gravel trails but there is some uneven footing. Transportation to People’s Park will be available from the Centennial. \nSpokane-based writer Jack Nisbet is the author of several collections of essays that explore the human and natural history of the Columbia Plateau. He has also written award-winning biographies of fur agent David Thompson (Sources of the River) and naturalist David Douglas (The Collector). These two early visitors to the region provided original information about the variety and tribal management of fish populations in the Columbia and Snake River drainages. For more information visit www.jacknisbet.com \n 
URL:https://cx3.tu.org/event/naturalist-tour-of-the-spokane-river-2/
LOCATION:Centennial Hotel\, 303 W North River Dr\, Spokane\, WA\, 99201\, United States
CATEGORIES:Additional Activities,Conservation Tours,Family,Learning
ORGANIZER;CN="Beverly%20Smith":MAILTO:beverly.smith@tu.org
END:VEVENT
BEGIN:VEVENT
DTSTART;TZID=America/Los_Angeles:20230930T134500
DTEND;TZID=America/Los_Angeles:20230930T164500
DTSTAMP:20260421T061309
CREATED:20230709T163750Z
LAST-MODIFIED:20230915T182621Z
UID:10000081-1696081500-1696092300@cx3.tu.org
SUMMARY:Regional TU Films
DESCRIPTION:Join us at the Bing Theatre for an afternoon screening of new and recent films celebrating the work and advocacy of TU’s grassroots and staff in the region\, including the inspiring new film “School of Fish” on Alaska’s Bristol Bay Guide Academy and a recent video highlighting a unique restoration partnership on Northeast Oregon’s Wallowa River. We will debut a brand-new film documenting the amazing TU volunteers of the Washington Council’s Barrier Assessment Team. \nWe’ll also watch films celebrating the resurgence of summer steelhead on the Elwha River following dam removal\, a favorite film from the Grande Ronde River pointing to the urgent need to breach the four dams on the Lower Snake River\, and a hilarious film about a ground-breaking citizen science effort led by TU’s North Sound Chapter – featuring the hunt for Sasquatch – along the beautiful headwaters of the Nooksack River in Washington’s Cascade Mountains. \nThis event is free and open to the public. \n  \n 
URL:https://cx3.tu.org/event/regionaltufilms/
LOCATION:Bing Crosby Theater\, 901 W Sprague Ave\, Spokane\, WA\, 99201\, United States
CATEGORIES:Family,Learning
ORGANIZER;CN="Beverly%20Smith":MAILTO:beverly.smith@tu.org
END:VEVENT
BEGIN:VEVENT
DTSTART;TZID=America/Los_Angeles:20230930T131500
DTEND;TZID=America/Los_Angeles:20230930T151500
DTSTAMP:20260421T061309
CREATED:20230412T160247Z
LAST-MODIFIED:20230915T182719Z
UID:10000088-1696079700-1696086900@cx3.tu.org
SUMMARY:Women's Fly Casting Practice
DESCRIPTION:Join us for an exciting afternoon of fly casting at the Trout Unlimited Women’s Fly Casting Practice event on the grassy area right under Spokane’s iconic clocktower in Riverfront Park. \nDiscover the joy of fly casting with the folks of Spokane Women on the Fly at Riverfront Park during the WSECU Fall Fest! Everyone\, regardless of experience\, is welcome. Join us and learn the basics of casting a fly rod or test your skills with a few fun casting challenges. Interested in getting involved or connecting with fellow fly fishing enthusiasts? Pop by and chat about what Spokane Women on the Fly and the local Spokane Falls Trout Unlimited Chapter is up to. \nThis event is all about empowering women in the world of fly fishing while extending a warm welcome to enthusiasts of all gender identities. Discover the beauty of fly casting in a supportive and diverse environment. Our instructors from TU’s Spokane Women on the Fly are all skilled female anglers. Our instructors will guide participants through the techniques and nuances of this elegant sport and teach walk-up beginners basic fly casts needed in most fishing situations. \nIf you have a rod and want to bring it\, great\, but we will have plenty to borrow. We will be casting on grass and with no hooks\, so no fishing license is required. You need only bring your enthusiasm for learning to cast and forging connections with fellow conservation minded anglers. \nDate: Sat.\, Sept. 30\nTime: 1:15 p.m. to 3:15 p.m.\nLocation: The grassy area under the clocktower in Riverfront Park \nThis event is free and open to the public! \n \nSpokane Women on the Fly has\, for almost 10 years\, been a vibrant and inclusive community and resource for outdoor and fly fishing enthusiasts. Affiliated with the Spokane Falls Chapter of Trout Unlimited\, the group is dedicated to merging the art of angling with cold water conservation values. This community extends beyond just fishing\, hosting inclusive and educational events such as fly tying\, casting sessions\, and social meetups. With open arms\, we welcome individuals of all skill levels and backgrounds to be a part of our tapestry\, where friendship and shared passions flourish on and off the water.
URL:https://cx3.tu.org/event/womens-casting-and-fishing-clinics/
LOCATION:Centennial Hotel\, 303 W North River Dr\, Spokane\, WA\, 99201\, United States
CATEGORIES:Additional Activities,DIY Adventures,Family,Fishing,Learning,Social,Women's Casting and Fishing Clinics
END:VEVENT
BEGIN:VEVENT
DTSTART;TZID=America/Los_Angeles:20230930T090000
DTEND;TZID=America/Los_Angeles:20230930T150000
DTSTAMP:20260421T061309
CREATED:20231001T040000Z
LAST-MODIFIED:20230821T130324Z
UID:10000027-1696064400-1696086000@cx3.tu.org
SUMMARY:STREAM Girls
DESCRIPTION:STREAM Girls \nSTREAM Girls is Trout Unlimited’s watershed STEM program for girls that builds confidence and breaks down barriers in science and the outdoors. Through the eyes of a scientist\, artist and angler\, girls make a personal connection to their home waters. As part of CX3\, TU staff and volunteers will work with Scouts from the Eastern Washington and Northern Idaho Council. STREAM Girls will be held at Saint George’s School on the Little Spokane River. Activities include: \n\nIntro to fly casting\nStream Walk\nStream Scavenger Hunt\nMacroinvertebrate sampling\nFun environmental ed activities\n\nVenue: \nSt George’s School \n2929 West Waikiki Road\, Spokane 99208 \nContact: Franklin Tate\, TU’s Youth Education Director at ftate@tu.org \n \n  \n 
URL:https://cx3.tu.org/event/stream-kids/
LOCATION:St. George’s School\, 2929 West Waikiki Road\, Spokane\, 99208
CATEGORIES:Family,Learning,Social,STREAM Kids
ATTACH;FMTTYPE=image/jpeg:https://cx3.tu.org/wp-content/uploads/2023/09/STREAM_kids.jpg
ORGANIZER;CN="Franklin%20Tate":MAILTO:franklin.tate@tu.org
END:VEVENT
BEGIN:VEVENT
DTSTART;TZID=America/Los_Angeles:20230930T084500
DTEND;TZID=America/Los_Angeles:20230930T104500
DTSTAMP:20260421T061309
CREATED:20230930T200000Z
LAST-MODIFIED:20230824T122006Z
UID:10000044-1696063500-1696070700@cx3.tu.org
SUMMARY:State of TU: Celebrating Community & Conservation with Chris Wood\, TU President and CEO
DESCRIPTION:Join Chris Wood\, TU’s President & CEO\, for an inspiring and powerful look at the incredible work you made possible through your tireless dedication and commitment to TU. From projects opening hundreds and thousands of miles of river to spawning trout\, steelhead and salmon to local level work restoring degraded streams or engaging kids in outdoor education\, the scope and scale of our shared efforts will leave you in awe and arm you with ideas for making a bigger impact. The State of TU and the State of the Grassroots are not-to-miss events and are free and open to all. \n  \n  \nPursuant to the provisions of the Trout Unlimited bylaws\, the 64th Annual Meeting of the members will be held at the conclusion of this event to elect and re-elect trustees and to take up any other business that comes up properly before the meeting. Accordingly\, voting at the meeting will be restricted to active TU members only. 
URL:https://cx3.tu.org/event/state-of-tu-celebrating-community-conservation-with-chris-wood/
LOCATION:Bing Crosby Theater\, 901 W Sprague Ave\, Spokane\, WA\, 99201\, United States
CATEGORIES:Business Meeting,Conservation Conversations,Family,Learning,Social
ATTACH;FMTTYPE=image/jpeg:https://cx3.tu.org/wp-content/uploads/2023/09/cx3-2022-state-of-trout-unlimited.jpg
ORGANIZER;CN="Beverly%20Smith":MAILTO:beverly.smith@tu.org
END:VEVENT
BEGIN:VEVENT
DTSTART;TZID=America/Los_Angeles:20230929T134500
DTEND;TZID=America/Los_Angeles:20230929T150000
DTSTAMP:20260421T061309
CREATED:20230413T122657Z
LAST-MODIFIED:20230413T123136Z
UID:10000071-1695995100-1695999600@cx3.tu.org
SUMMARY:Youth Education Workgroup
DESCRIPTION:The Youth Education NLC Workgroup engages young people in activities that will foster in them the values to carry on the mission of TU and to secure for future generations TU’s vision. \nThis session is open to all event attendees. \n 
URL:https://cx3.tu.org/event/youth-education-workgroup/
LOCATION:Centennial Hotel\, 303 W North River Dr\, Spokane\, WA\, 99201\, United States
CATEGORIES:Business Meeting,Family,Learning,National Leadership Council Workgroup,STREAM Kids
ORGANIZER;CN="Beverly%20Smith":MAILTO:beverly.smith@tu.org
END:VEVENT
BEGIN:VEVENT
DTSTART;TZID=America/Los_Angeles:20230929T121500
DTEND;TZID=America/Los_Angeles:20230929T134500
DTSTAMP:20260421T061309
CREATED:20230413T121244Z
LAST-MODIFIED:20230819T000134Z
UID:10000068-1695989700-1695995100@cx3.tu.org
SUMMARY:Luncheon Featuring Rene Henery
DESCRIPTION:Deep Restoration: Tending Nature Within and Without\n\n\n\n\n\nTU’s California Science Director Dr. Rene Henery discusses the state of aquatic ecosystems\, the state of people\, and the importance of tending to both in order for conservation to succeed in the era of climate change.
URL:https://cx3.tu.org/event/speaker-luncheon/
LOCATION:Centennial Hotel\, 303 W North River Dr\, Spokane\, WA\, 99201\, United States
CATEGORIES:Conservation Conversations,Family,Learning,Social
ORGANIZER;CN="Beverly%20Smith":MAILTO:beverly.smith@tu.org
END:VEVENT
BEGIN:VEVENT
DTSTART;TZID=America/Los_Angeles:20230929T091500
DTEND;TZID=America/Los_Angeles:20230929T103000
DTSTAMP:20260421T061309
CREATED:20230712T203356Z
LAST-MODIFIED:20230915T183110Z
UID:10000082-1695978900-1695983400@cx3.tu.org
SUMMARY:The Healing Sport of Fly Fishing: Serving Children in Foster Care with The Mayfly Project
DESCRIPTION:Join this inspiring session with Kayla Lockhart and Kaitlin Barnhart as they cover all of the benefits of the sport of fly fishing for foster children\, discuss what the Mayfly Project does\, and talk about the bonuses of being a mentor to the next generation of anglers. This event is free and open to the public. \n  \n \nKayla Lockhart first discovered fly fishing to help cope with her depression and anxiety from a difficult upbringing. Today fly fishing has not only given her the tools to help heal on the water\, but has taken her to some exotic places in pursuit of some of the most exotic species of fish. In between these trips\, Kayla assists with conservation efforts\, advocating for a more inclusive space within the sport\, and organizations like TU\, the Native Fish Society and the Mayfly Project. Read the Fly Fisherman article to learn more about Kayla’s story. From Foster Care to Fly Fishing: Kayla Lockhart’s Journey to Find Peace. \n \nKaitlin Barnhart is the Co-Founder and National Program Director of The Mayfly Project\, and lives in Coeur’ d Alene\, Idaho. She has worked in the mental health field\, specifically with the foster care population\, and has been fly fishing\, for over 20 years. Beyond her work with TMP\, Kaitlin is a mother to three kids\, an outdoor writer\, and is known for hauling her family outdoors year-around.
URL:https://cx3.tu.org/event/the-healing-sport-of-fly-fishing-serving-children-in-foster-care-with-the-mayfly-project/
LOCATION:Centennial Hotel\, 303 W North River Dr\, Spokane\, WA\, 99201\, United States
CATEGORIES:Conservation Conversations,Family,Learning
ORGANIZER;CN="Beverly%20Smith":MAILTO:beverly.smith@tu.org
END:VEVENT
BEGIN:VEVENT
DTSTART;TZID=America/Los_Angeles:20230929T070000
DTEND;TZID=America/Los_Angeles:20230929T080000
DTSTAMP:20260421T061309
CREATED:20230322T184251Z
LAST-MODIFIED:20230915T182339Z
UID:10000057-1695970800-1695974400@cx3.tu.org
SUMMARY:5K: Run (or Walk) The Riverfront Park Loop
DESCRIPTION:The Riverfront Loop takes you on a scenic tour of Spokane’s central attraction and is easily accessed from downtown hotels. The loop extends for 2.7 miles around the park\, crossing the Centennial Trail onto the grounds of Gonzaga University\, then heading back west on the north bank of the river to reach the park’s pedestrian bridges. For added distance\, continue on the Centennial Trail or loop in the paths around Gonzaga. \nInterested runners or walkers are encouraged to meet in the pre-function area at 7 a.m. to run or walk together. We will ensure that folks are back and at breakfast in time to listen to our welcome blessing from the Spokane Tribal representative\, Danny Kieffer at 8:15 a.m. \nThe run/ walk is free and open to the public.
URL:https://cx3.tu.org/event/5k-run-or-walk-the-riverfront-park-loop/
LOCATION:Centennial Hotel\, 303 W North River Dr\, Spokane\, WA\, 99201\, United States
CATEGORIES:Additional Activities,DIY Adventures,Family,Social
ORGANIZER;CN="Beverly%20Smith":MAILTO:beverly.smith@tu.org
END:VEVENT
BEGIN:VEVENT
DTSTART;TZID=America/Los_Angeles:20230928T170000
DTEND;TZID=America/Los_Angeles:20230928T183000
DTSTAMP:20260421T061309
CREATED:20230929T040000Z
LAST-MODIFIED:20230322T182539Z
UID:10000050-1695920400-1695925800@cx3.tu.org
SUMMARY:Welcome reception
DESCRIPTION:Enjoy hors d’oeuvres\, cash bar\, and music with TU supporters and visit tables/ booths set-up in the room by our partners. \n  \nIncluded in the “all-inclusive” registration.
URL:https://cx3.tu.org/event/welcome-reception/
LOCATION:Centennial Hotel\, 303 W North River Dr\, Spokane\, WA\, 99201\, United States
CATEGORIES:Family,Social
ATTACH;FMTTYPE=image/jpeg:https://cx3.tu.org/wp-content/uploads/2023/01/welcome_reception.jpg
END:VEVENT
END:VCALENDAR